BEGIN:VCALENDAR
VERSION:2.0
PRODID:-//Association Rhône au Rhin Plaisance Biesheim Neuf-Brisach - ECPv6.15.17.1//NONSGML v1.0//EN
CALSCALE:GREGORIAN
METHOD:PUBLISH
X-ORIGINAL-URL:https://rhone-rhin-plaisance.fr
X-WR-CALDESC:Évènements pour Association Rhône au Rhin Plaisance Biesheim Neuf-Brisach
REFRESH-INTERVAL;VALUE=DURATION:PT1H
X-Robots-Tag:noindex
X-PUBLISHED-TTL:PT1H
BEGIN:VTIMEZONE
TZID:Europe/Paris
BEGIN:DAYLIGHT
TZOFFSETFROM:+0100
TZOFFSETTO:+0200
TZNAME:CEST
DTSTART:20250330T010000
END:DAYLIGHT
BEGIN:STANDARD
TZOFFSETFROM:+0200
TZOFFSETTO:+0100
TZNAME:CET
DTSTART:20251026T010000
END:STANDARD
BEGIN:DAYLIGHT
TZOFFSETFROM:+0100
TZOFFSETTO:+0200
TZNAME:CEST
DTSTART:20260329T010000
END:DAYLIGHT
BEGIN:STANDARD
TZOFFSETFROM:+0200
TZOFFSETTO:+0100
TZNAME:CET
DTSTART:20261025T010000
END:STANDARD
BEGIN:DAYLIGHT
TZOFFSETFROM:+0100
TZOFFSETTO:+0200
TZNAME:CEST
DTSTART:20270328T010000
END:DAYLIGHT
BEGIN:STANDARD
TZOFFSETFROM:+0200
TZOFFSETTO:+0100
TZNAME:CET
DTSTART:20271031T010000
END:STANDARD
END:VTIMEZONE
BEGIN:VEVENT
DTSTART;TZID=Europe/Paris:20260323T190000
DTEND;TZID=Europe/Paris:20260323T213000
DTSTAMP:20260420T201033
CREATED:20260226T162718Z
LAST-MODIFIED:20260226T162718Z
UID:4099-1774292400-1774301400@rhone-rhin-plaisance.fr
SUMMARY:Début des cours Permis côtier
DESCRIPTION:
URL:https://rhone-rhin-plaisance.fr/evenement/debut-des-cours-permis-cotier/
END:VEVENT
END:VCALENDAR